BEGIN:VCALENDAR
VERSION:2.0
PRODID:-//STN PUM - ECPv6.15.20//NONSGML v1.0//EN
CALSCALE:GREGORIAN
METHOD:PUBLISH
X-ORIGINAL-URL:https://stn.pum.edu.pl
X-WR-CALDESC:Wydarzenia dla STN PUM
REFRESH-INTERVAL;VALUE=DURATION:PT1H
X-Robots-Tag:noindex
X-PUBLISHED-TTL:PT1H
BEGIN:VTIMEZONE
TZID:Europe/Warsaw
BEGIN:DAYLIGHT
TZOFFSETFROM:+0100
TZOFFSETTO:+0200
TZNAME:CEST
DTSTART:20240331T010000
END:DAYLIGHT
BEGIN:STANDARD
TZOFFSETFROM:+0200
TZOFFSETTO:+0100
TZNAME:CET
DTSTART:20241027T010000
END:STANDARD
BEGIN:DAYLIGHT
TZOFFSETFROM:+0100
TZOFFSETTO:+0200
TZNAME:CEST
DTSTART:20250330T010000
END:DAYLIGHT
BEGIN:STANDARD
TZOFFSETFROM:+0200
TZOFFSETTO:+0100
TZNAME:CET
DTSTART:20251026T010000
END:STANDARD
BEGIN:DAYLIGHT
TZOFFSETFROM:+0100
TZOFFSETTO:+0200
TZNAME:CEST
DTSTART:20260329T010000
END:DAYLIGHT
BEGIN:STANDARD
TZOFFSETFROM:+0200
TZOFFSETTO:+0100
TZNAME:CET
DTSTART:20261025T010000
END:STANDARD
END:VTIMEZONE
BEGIN:VEVENT
DTSTART;TZID=Europe/Warsaw:20250110T180000
DTEND;TZID=Europe/Warsaw:20250110T180000
DTSTAMP:20260424T225838
CREATED:20241222T103306Z
LAST-MODIFIED:20241222T103311Z
UID:1376-1736532000-1736532000@stn.pum.edu.pl
SUMMARY:"Neuroanatomia w badaniu neurologicznym - jak to działa?" - wykład Prof. Janusza Morysia dla SKN Neurologii
DESCRIPTION:10.01.2025 r.\, o godz 18:00\, w MCD1 odbędzie się wykład Pana Profesora Janusza Morysia organizowany we współpracy z SKN Neurologii\, pt. “Neuroanatomia w badaniu neurologicznym – jak to działa?”. Zapraszamy!
URL:https://stn.pum.edu.pl/event/neuroanatomia-w-badaniu-neurologicznym-jak-to-dziala-wyklad-prof-janusza-morysia-dla-skn-neurologii/
LOCATION:Międzywydziałowe Centrum Dydaktyki 1\, Al. Powstańców Wielkopolskich 72\, Szczecin\, zachodniopomorskie\, 71-899\, Poland
ATTACH;FMTTYPE=image/jpeg:https://stn.pum.edu.pl/wp-content/uploads/2024/12/5434f4e4ba69b_o_medium.jpg
END:VEVENT
BEGIN:VEVENT
DTSTART;TZID=Europe/Warsaw:20250123T180000
DTEND;TZID=Europe/Warsaw:20250123T180000
DTSTAMP:20260424T225838
CREATED:20250119T101304Z
LAST-MODIFIED:20250119T101316Z
UID:1388-1737655200-1737655200@stn.pum.edu.pl
SUMMARY:Spotkanie SKN Gatroenterologii
DESCRIPTION:23.01. 2025 r. o godz. 18:00 odbędzie się spotkanie Studenckiego Koła Naukowego Gastroenterologii. Wydarzenie będzie miało miejsce sali seminaryjnej Kliniki Gastroenterologii na 4. piętrze w budynku USK 1 przy ul. Unii Lubelskiej 1. Serdecznie zapraszamy! 🙂
URL:https://stn.pum.edu.pl/event/spotkanie-skn-gatroenterologii/
LOCATION:Uniwersytecki Szpital Kliniczny nr 1\, Unii Lubelskiej 1\, Szczecin\, zachodniopomorskie\, 71-252\, Poland
ATTACH;FMTTYPE=image/png:https://stn.pum.edu.pl/wp-content/uploads/2024/12/gastroenetreologia.png
END:VEVENT
BEGIN:VEVENT
DTSTART;TZID=Europe/Warsaw:20250130T163000
DTEND;TZID=Europe/Warsaw:20250130T163000
DTSTAMP:20260424T225838
CREATED:20250119T101812Z
LAST-MODIFIED:20250119T101926Z
UID:1390-1738254600-1738254600@stn.pum.edu.pl
SUMMARY:Warsztaty z badania neurologicznego
DESCRIPTION:30.01.2025 r. oraz 31.01.2025 r. o 16:30 odbędą się organizowane przez SKN Neurologii PUM warsztaty z zakresu badania neurologicznego. Spotkania będą miały miejsce w sali seminaryjnej Kliniki Gastroenterologii mieszczącej się na 4. piętrze w budynku USK 1 przy ul. Unii Lubelskiej 1. Serdecznie zapraszamy! 🙂
URL:https://stn.pum.edu.pl/event/warsztaty-z-badania-neurologicznego/
LOCATION:Uniwersytecki Szpital Kliniczny nr 1\, Unii Lubelskiej 1\, Szczecin\, zachodniopomorskie\, 71-252\, Poland
ATTACH;FMTTYPE=image/jpeg:https://stn.pum.edu.pl/wp-content/uploads/2025/01/images.jpg
END:VEVENT
END:VCALENDAR