BEGIN:VCALENDAR
VERSION:2.0
PRODID:-//STN PUM - ECPv6.15.20//NONSGML v1.0//EN
CALSCALE:GREGORIAN
METHOD:PUBLISH
X-WR-CALNAME:STN PUM
X-ORIGINAL-URL:https://stn.pum.edu.pl
X-WR-CALDESC:Wydarzenia dla STN PUM
REFRESH-INTERVAL;VALUE=DURATION:PT1H
X-Robots-Tag:noindex
X-PUBLISHED-TTL:PT1H
BEGIN:VTIMEZONE
TZID:Europe/Warsaw
BEGIN:DAYLIGHT
TZOFFSETFROM:+0100
TZOFFSETTO:+0200
TZNAME:CEST
DTSTART:20230326T010000
END:DAYLIGHT
BEGIN:STANDARD
TZOFFSETFROM:+0200
TZOFFSETTO:+0100
TZNAME:CET
DTSTART:20231029T010000
END:STANDARD
BEGIN:DAYLIGHT
TZOFFSETFROM:+0100
TZOFFSETTO:+0200
TZNAME:CEST
DTSTART:20240331T010000
END:DAYLIGHT
BEGIN:STANDARD
TZOFFSETFROM:+0200
TZOFFSETTO:+0100
TZNAME:CET
DTSTART:20241027T010000
END:STANDARD
BEGIN:DAYLIGHT
TZOFFSETFROM:+0100
TZOFFSETTO:+0200
TZNAME:CEST
DTSTART:20250330T010000
END:DAYLIGHT
BEGIN:STANDARD
TZOFFSETFROM:+0200
TZOFFSETTO:+0100
TZNAME:CET
DTSTART:20251026T010000
END:STANDARD
END:VTIMEZONE
BEGIN:VEVENT
DTSTART;TZID=Europe/Warsaw:20241108T235900
DTEND;TZID=Europe/Warsaw:20241108T235900
DTSTAMP:20260423T233750
CREATED:20241024T195021Z
LAST-MODIFIED:20241024T195021Z
UID:1302-1731110340-1731110340@stn.pum.edu.pl
SUMMARY:Termin końcowy zgłaszania kół naukowych
DESCRIPTION:Drodzy Studenci! \nPrzypominamy o rejestracji Studenckich Kół Naukowych. Przewodniczących prosimy o wypełnienie wniosku do 08.11.2024r. (do godziny 23:59). Wszelkie informacje wraz z wnioskiem do pobrania znajdują się na stronie STN.\n\n\nDear Students! \nWe kindly remind you about the registration of Student Scientific Circles. Chairpersons are asked to fill in the form below until 08.11.2024r. (until 23:59). You can find all necessary information and the downloadable application form on the STN website.
URL:https://stn.pum.edu.pl/event/termin-koncowy-zglaszania-kol-naukowych/
LOCATION:zachodniopomorskie
ATTACH;FMTTYPE=image/jpeg:https://stn.pum.edu.pl/wp-content/uploads/2024/10/deadline.jpg
END:VEVENT
BEGIN:VEVENT
DTSTART;TZID=Europe/Warsaw:20241105T160000
DTEND;TZID=Europe/Warsaw:20241105T173000
DTSTAMP:20260423T233750
CREATED:20241024T195549Z
LAST-MODIFIED:20241031T072822Z
UID:1311-1730822400-1730827800@stn.pum.edu.pl
SUMMARY:Spotkanie organizacyjne SKN Neurochirurgii
DESCRIPTION:Spotkanie organizacyjne SKN Neurochirurgii. Podczas spotkania przedstawiony zostanie plan działania SKN Neurochirurgii oraz dwa wystąpienia członków koła. Serdecznie zapraszamy.
URL:https://stn.pum.edu.pl/event/spotkanie-organizacyjne-skn-neurochirurgii/
LOCATION:Uniwersytecki Szpital Kliniczny nr 1\, Unii Lubelskiej 1\, Szczecin\, zachodniopomorskie\, 71-252\, Poland
ATTACH;FMTTYPE=image/png:https://stn.pum.edu.pl/wp-content/uploads/2024/10/Spotkanie-SKN-Neurochirurgii-1.png
END:VEVENT
BEGIN:VEVENT
DTSTART;TZID=Europe/Warsaw:20241104T183000
DTEND;TZID=Europe/Warsaw:20241104T200000
DTSTAMP:20260423T233750
CREATED:20241024T195834Z
LAST-MODIFIED:20241024T195834Z
UID:1314-1730745000-1730750400@stn.pum.edu.pl
SUMMARY:Spotkanie organizacyjne SKN Neurobiologii
DESCRIPTION:
URL:https://stn.pum.edu.pl/event/spotkanie-organizacyjne-skn-neurobiologii/
LOCATION:Biblioteka Główna PUM\, al. Powstańców Wielkopolskich 20\, Szczecin\, zachodniopomorskie\, 71-899\, Poland
ATTACH;FMTTYPE=image/jpeg:https://stn.pum.edu.pl/wp-content/uploads/2024/10/414727744_6682213558545776_5153461857886491433_n.jpg
END:VEVENT
BEGIN:VEVENT
DTSTART;TZID=Europe/Warsaw:20241030T130000
DTEND;TZID=Europe/Warsaw:20241030T180000
DTSTAMP:20260423T233750
CREATED:20241024T194742Z
LAST-MODIFIED:20241024T194742Z
UID:1299-1730293200-1730311200@stn.pum.edu.pl
SUMMARY:Wybory do zarządu STN
DESCRIPTION:Wybory do Zarządu Studenckiego Towarzystwa Naukowego PUM \n\n\nDrodzy Studenci\,\n\n\nZapraszamy do zgłaszania swoich kandydatur do Zarządu Studenckiego Towarzystwa Naukowego PUM! To wyjątkowa okazja\, aby zaangażować się w działalność naukową naszej uczelni i zdobyć cenne doświadczenie organizacyjne \n\n\n Liczba wakatów: 8\n Termin zgłoszeń: do 28.10.2024\, godz. 23:59\n Zgłoszenia prosimy przesyłać na adres: stnpumzarzad@gmail.com\n\n\n Wybory odbędą się:\n Data: 30.10.2024\n Miejsce: Biblioteka Główna PUM\, al. Powstańców Wielkopolskich 20\n Godzina: 13:00-18:00\n\n\nSzczegółowy regulamin wyborów dostępny jest w linku poniżej. W razie pytań pozostajemy do Waszej dyspozycji.\n\n\nRegulamin:\nhttps://drive.google.com/…/19tnGU2EDDNVoYUeuiQP…/view…\nWzór zgłoszenia:\nhttps://docs.google.com/…/1GNc1fpGnA…/edit\n\n\nDołączcie do nas i wspólnie budujmy przyszłość naukową PUM!
URL:https://stn.pum.edu.pl/event/wybory-do-zarzadu-stn/
LOCATION:zachodniopomorskie
ATTACH;FMTTYPE=image/jpeg:https://stn.pum.edu.pl/wp-content/uploads/2024/10/464161138_18228311668304719_2103597268609416879_n.jpg
END:VEVENT
BEGIN:VEVENT
DTSTART;TZID=Europe/Warsaw:20241029T150000
DTEND;TZID=Europe/Warsaw:20241029T150000
DTSTAMP:20260423T233750
CREATED:20241027T131622Z
LAST-MODIFIED:20241027T131622Z
UID:1320-1730214000-1730214000@stn.pum.edu.pl
SUMMARY:Profesor Kipp: „From myelin degeneration to regeneration: Lessons learned from animal models of multiple sclerosis".
DESCRIPTION:Serdecznie zapraszamy na unikalny cykl wykładów naukowych\, mających na celu rozwój współpracy z otoczeniem społeczno-gospodarczym. Inicjatywa ta ma na celu szerzenie wiedzy medycznej\, promocję profilaktyki chorób oraz zdrowego stylu życia. W ramach tego cyklu gościć będziemy uznanych wykładowców z zagranicy\, którzy zaprezentują najnowsze osiągnięcia w swoich dziedzinach. \nPierwszy wykład poprowadzi Univ. Prof. Dr. med. Dr. rer. nat. Markus Kipp z Universitätsmedizin Rostock (Uniwersytet Medyczny w Rostoku). Profesor Kipp wygłosi prelekcję zatytułowaną: „From myelin degeneration to regeneration: Lessons learned from animal models of multiple sclerosis”. \nZespół badawczy profesora Kippa prowadzi zaawansowane badania nad fizjologią i patologią tzw. jednostki akson-oligodendrocyt-mielina. Głównym przedmiotem ich badań jest zrozumienie\, w jaki sposób zestresowane oligodendrocyty regulują rekrutację obwodowych komórek układu odpornościowego oraz jak te komórki uzyskują dostęp do miąższu ośrodkowego układu nerwowego (OUN) poprzez specyficzne szlaki neuroanatomiczne. W tym celu zespół wykorzystuje zaawansowane techniki badawcze\, takie jak stereologia projektowa\, analizy behawioralne (m.in. wideografia płaszczyzny brzusznej o wysokiej prędkości)\, czy połączenie tomografii pozytonowej i komputerowej (PET/CT). Kiedy to możliwe\, wyniki badań przedklinicznych porównywane są z próbkami pośmiertnymi pobranymi od dawców będących pacjentami ze stwardnieniem rozsianym. \nWykład odbędzie się 29 października 2024 r. o godzinie 15:00 w Auli budynku Rektoratu (ul. Rybacka 1 w Szczecinie). \nTo wyjątkowa okazja\, aby wysłuchać jednego z czołowych ekspertów w dziedzinie neurologii i regeneracji układu nerwowego. Zachęcamy do udziału wszystkich zainteresowanych tematyką medyczną\, naukowców\, studentów oraz osoby zaangażowane w promocję wiedzy o zdrowiu. \nNie przegap tej wyjątkowej szansy na spotkanie z nauką na najwyższym poziomie!
URL:https://stn.pum.edu.pl/event/profesor-kipp-from-myelin-degeneration-to-regeneration-lessons-learned-from-animal-models-of-multiple-sclerosis/
LOCATION:Rektorat\, ul. Rybacka 1\, Szczecin\, zachodniopomorskie\, 70-204\, Poland
ATTACH;FMTTYPE=image/jpeg:https://stn.pum.edu.pl/wp-content/uploads/2024/10/csm_Kipp__Markus3_297220f0a0.jpg
END:VEVENT
BEGIN:VEVENT
DTSTART;VALUE=DATE:20241029
DTEND;VALUE=DATE:20241030
DTSTAMP:20260423T233750
CREATED:20241024T195310Z
LAST-MODIFIED:20241024T195310Z
UID:1309-1730160000-1730246399@stn.pum.edu.pl
SUMMARY:Fair of the Student Scientific Society and Student Research Clubs
DESCRIPTION:
URL:https://stn.pum.edu.pl/event/fair-of-the-student-scientific-society-and-student-research-clubs/
LOCATION:zachodniopomorskie
END:VEVENT
BEGIN:VEVENT
DTSTART;TZID=Europe/Warsaw:20241028T235900
DTEND;TZID=Europe/Warsaw:20241028T235900
DTSTAMP:20260423T233750
CREATED:20241024T194528Z
LAST-MODIFIED:20241024T194543Z
UID:1295-1730159940-1730159940@stn.pum.edu.pl
SUMMARY:Termin końcowy składania kandydatur do zarządu STN
DESCRIPTION:Przypominamy\, że termin składania kandydatur do zarządu STN mija 28.10.2024 o godz. 23:59.
URL:https://stn.pum.edu.pl/event/termin-koncowy-skladania-kandydatury-do-zarzadu-stn/
LOCATION:zachodniopomorskie
ATTACH;FMTTYPE=image/jpeg:https://stn.pum.edu.pl/wp-content/uploads/2024/10/deadline.jpg
END:VEVENT
BEGIN:VEVENT
DTSTART;TZID=Europe/Warsaw:20241026T110000
DTEND;TZID=Europe/Warsaw:20241026T133000
DTSTAMP:20260423T233750
CREATED:20241014T175107Z
LAST-MODIFIED:20241024T195129Z
UID:1266-1729940400-1729949400@stn.pum.edu.pl
SUMMARY:Let’s talk about science! Kiermasz SKN i Studenckiego Towarzystwa Naukowego
DESCRIPTION:Drodzy Studenci!  \nNowy rok akademicki to nie tylko czas nauki\, ale także świetna okazja\, by rozwijać swoje pasje i odkrywać nowe możliwości!  Chciałbyś postawić pierwsze kroki w świecie nauki? Dołączyć do Studenckiego Koła Naukowego albo stworzyć własne?  A może marzy Ci się udział w konferencjach lub poszerzenie wiedzy o nowoczesnych technologiach i AI? \nJeśli tak\, mamy coś dla Ciebie!  Zapraszamy na „Let’s talk about science! Kiermasz SKN i Studenckiego Towarzystwa Naukowego”!  26.10.2024 w CSM!Wkrótce zdradzimy więcej szczegółów o prelegentach i warsztatach! 
URL:https://stn.pum.edu.pl/event/lets-talk-about-science-kiermasz-skn-i-studenckiego-towarzystwa-naukowego/
LOCATION:Centrum Symulacji Medycznej PUM\, Sebastiana Klonowica 50\, Szczecin\, Zachodniopomorskie\, 71-240\, Poland
ATTACH;FMTTYPE=image/jpeg:https://stn.pum.edu.pl/wp-content/uploads/2024/10/463118746_985246280308848_2652191423204640547_n.jpg
END:VEVENT
BEGIN:VEVENT
DTSTART;VALUE=DATE:20240427
DTEND;VALUE=DATE:20240429
DTSTAMP:20260423T233750
CREATED:20240220T224024Z
LAST-MODIFIED:20240220T224024Z
UID:496-1714176000-1714348799@stn.pum.edu.pl
SUMMARY:OKPUM
DESCRIPTION:
URL:https://stn.pum.edu.pl/event/okpum/
LOCATION:zachodniopomorskie
ORGANIZER;CN="Magdalena Zawadzka":MAILTO:madzia990723@gmail.com
END:VEVENT
END:VCALENDAR