BEGIN:VCALENDAR
VERSION:2.0
PRODID:-//STN PUM - ECPv6.15.20//NONSGML v1.0//EN
CALSCALE:GREGORIAN
METHOD:PUBLISH
X-WR-CALNAME:STN PUM
X-ORIGINAL-URL:https://stn.pum.edu.pl
X-WR-CALDESC:Wydarzenia dla STN PUM
REFRESH-INTERVAL;VALUE=DURATION:PT1H
X-Robots-Tag:noindex
X-PUBLISHED-TTL:PT1H
BEGIN:VTIMEZONE
TZID:Europe/Warsaw
BEGIN:DAYLIGHT
TZOFFSETFROM:+0100
TZOFFSETTO:+0200
TZNAME:CEST
DTSTART:20250330T010000
END:DAYLIGHT
BEGIN:STANDARD
TZOFFSETFROM:+0200
TZOFFSETTO:+0100
TZNAME:CET
DTSTART:20251026T010000
END:STANDARD
BEGIN:DAYLIGHT
TZOFFSETFROM:+0100
TZOFFSETTO:+0200
TZNAME:CEST
DTSTART:20260329T010000
END:DAYLIGHT
BEGIN:STANDARD
TZOFFSETFROM:+0200
TZOFFSETTO:+0100
TZNAME:CET
DTSTART:20261025T010000
END:STANDARD
BEGIN:DAYLIGHT
TZOFFSETFROM:+0100
TZOFFSETTO:+0200
TZNAME:CEST
DTSTART:20270328T010000
END:DAYLIGHT
BEGIN:STANDARD
TZOFFSETFROM:+0200
TZOFFSETTO:+0100
TZNAME:CET
DTSTART:20271031T010000
END:STANDARD
END:VTIMEZONE
BEGIN:VEVENT
DTSTART;VALUE=DATE:20260417
DTEND;VALUE=DATE:20260420
DTSTAMP:20260424T005252
CREATED:20260118T124902Z
LAST-MODIFIED:20260118T125228Z
UID:1502-1776384000-1776643199@stn.pum.edu.pl
SUMMARY:OKPUM 2026
DESCRIPTION:Ogólnopolska Konferencja Pomorskiego Uniwersytetu Medycznego to coroczna\, 55. Konferencja zrzeszająca Studentów kierunków medycznych w całej Polsce. Konferencja charakteryzuje się różnorodną tematyką\, co pozwala młodym naukowcom zaprezentować swoje badania i dorobek naukowy na forum publicznym. Prezentacja odbywa się przed jury\, które składa się z lekarzy\, doktorów i profesorów specjalizujących się w różnych dziedzinach nauk medycznych.
URL:https://stn.pum.edu.pl/event/okpum-2026/
END:VEVENT
END:VCALENDAR